BEGIN:VCALENDAR
VERSION:2.0
PRODID:-//Anderson Dahlen - ECPv6.15.13.1//NONSGML v1.0//EN
CALSCALE:GREGORIAN
METHOD:PUBLISH
X-WR-CALNAME:Anderson Dahlen
X-ORIGINAL-URL:https://andersondahlen.com
X-WR-CALDESC:Events for Anderson Dahlen
REFRESH-INTERVAL;VALUE=DURATION:PT1H
X-Robots-Tag:noindex
X-PUBLISHED-TTL:PT1H
BEGIN:VTIMEZONE
TZID:UTC
BEGIN:STANDARD
TZOFFSETFROM:+0000
TZOFFSETTO:+0000
TZNAME:UTC
DTSTART:20220101T000000
END:STANDARD
END:VTIMEZONE
BEGIN:VEVENT
DTSTART;VALUE=DATE:20230509
DTEND;VALUE=DATE:20230511
DTSTAMP:20260419T154428
CREATED:20240108T031032Z
LAST-MODIFIED:20240108T031142Z
UID:4012-1683590400-1683763199@andersondahlen.com
SUMMARY:Society of Vacuum Coaters (SVC) Technical Conference
DESCRIPTION:Anderson Dahlen’s vacuum division is participating in the Expo at booth 510.
URL:https://andersondahlen.com/event/society-of-vacuum-coaters-svc-technical-conference-2/
LOCATION:Gaylor National Resort and Convention Center\, 201 Waterfront Street\, National Harbor\, MD\, 20745\, United States
ATTACH;FMTTYPE=image/png:https://andersondahlen.com/wp-content/uploads/2024/01/SVC-Logo-Horizontal.png
END:VEVENT
END:VCALENDAR