BEGIN:VCALENDAR
VERSION:2.0
PRODID:-//Anderson Dahlen - ECPv6.15.13.1//NONSGML v1.0//EN
CALSCALE:GREGORIAN
METHOD:PUBLISH
X-WR-CALNAME:Anderson Dahlen
X-ORIGINAL-URL:https://andersondahlen.com
X-WR-CALDESC:Events for Anderson Dahlen
REFRESH-INTERVAL;VALUE=DURATION:PT1H
X-Robots-Tag:noindex
X-PUBLISHED-TTL:PT1H
BEGIN:VTIMEZONE
TZID:UTC
BEGIN:STANDARD
TZOFFSETFROM:+0000
TZOFFSETTO:+0000
TZNAME:UTC
DTSTART:20220101T000000
END:STANDARD
END:VTIMEZONE
BEGIN:VEVENT
DTSTART;VALUE=DATE:20230911
DTEND;VALUE=DATE:20230914
DTSTAMP:20260419T093222
CREATED:20240102T030326Z
LAST-MODIFIED:20240108T030945Z
UID:4011-1694390400-1694649599@andersondahlen.com
SUMMARY:PACK Expo
DESCRIPTION:Stop by booth 8229 to meet the Anderson Dahlen and Gray teams.
URL:https://andersondahlen.com/event/pack-expo-ad/
LOCATION:Las Vegas Convention Center\, 3150 Paradise Rd\, Las Vegas\, NV\, 89109\, United States
ATTACH;FMTTYPE=image/png:https://andersondahlen.com/wp-content/uploads/2024/01/pack-expo-las-vegas-logo.png
END:VEVENT
END:VCALENDAR